BEGIN:VCALENDAR
VERSION:2.0
PRODID:GlueUp
CALSCALE:GREGORIAN
BEGIN:VTIMEZONE
TZID:UTC
BEGIN:STANDARD
DTSTART:19700101T000000
TZOFFSETFROM:+0000
TZOFFSETTO:+0000
TZNAME:UTC
END:STANDARD
END:VTIMEZONE
BEGIN:VEVENT
TZ:+00
ORGANIZER;CN=Melissa LIU:MAILTO:melissa.liu@swisscham.org
UID:44922-1777127261@https://swisscham-beijing.glueup.cn
DTSTAMP:20260425T142741Z
DTSTART:20241028T094000Z
DTEND:20241028T113000Z
SUMMARY:Swiss Business  Survey in China at the Swiss Embassy
DESCRIPTION:Swiss Business  Survey in China at the Swiss Embassy by Swiss Chinese Chamber of Commerce\n\nOct 28, 2024 (5:40 PM - 7:30 PM)(GMT+8)\n\nFor more information, click here: https://swisscham-beijing.glueup.cn/my/events/44922
LOCATION:Embassy of Switzerland - San Li Tun Dong Wu Jie 3 - Bei Jing Shi - China Beijing - China
BEGIN:VALARM
TRIGGER:-PT48H
REPEAT:4
DURATION:PT30M
ACTION:DISPLAY
END:VALARM
END:VEVENT
END:VCALENDAR