BEGIN:VCALENDAR
VERSION:2.0
PRODID:GlueUp
CALSCALE:GREGORIAN
BEGIN:VTIMEZONE
TZID:UTC
BEGIN:STANDARD
DTSTART:19700101T000000
TZOFFSETFROM:+0000
TZOFFSETTO:+0000
TZNAME:UTC
END:STANDARD
END:VTIMEZONE
BEGIN:VEVENT
TZ:+00
ORGANIZER;CN=Melissa LIU:MAILTO:melissa.liu@swisscham.org
UID:44809-1776778590@https://swisscham-beijing.glueup.cn
DTSTAMP:20260421T133630Z
DTSTART:20240821T003000Z
DTEND:20240821T020000Z
SUMMARY:Monthly Breakfast on Consumer Goods
DESCRIPTION:Monthly Breakfast on Consumer Goods by Swiss Chinese Chamber of Commerce\n\nAug 21, 2024 (8:30 AM - 10:00 AM)(GMT+8)\n\nFor more information, click here: https://swisscham-beijing.glueup.cn/my/events/44809
LOCATION:Panorama葩诺 - 北京市朝阳区三里屯路机电院81号楼 北京 - China
BEGIN:VALARM
TRIGGER:-PT48H
REPEAT:4
DURATION:PT30M
ACTION:DISPLAY
END:VALARM
END:VEVENT
END:VCALENDAR