BEGIN:VCALENDAR
VERSION:2.0
PRODID:GlueUp
CALSCALE:GREGORIAN
BEGIN:VTIMEZONE
TZID:UTC
BEGIN:STANDARD
DTSTART:19700101T000000
TZOFFSETFROM:+0000
TZOFFSETTO:+0000
TZNAME:UTC
END:STANDARD
END:VTIMEZONE
BEGIN:VEVENT
TZ:+00
ORGANIZER;CN=Raphael Zumsteg-Yuan:MAILTO:raphael.zumsteg@ss-tp.cn
UID:44770-1776773165@https://swisscham-beijing.glueup.cn
DTSTAMP:20260421T120605Z
DTSTART:20240910T010000Z
DTEND:20240910T070000Z
SUMMARY:DACH Insight Tour & “Talent Retention & Legal Compliance ” Roadshow 德语地区企业探访
DESCRIPTION:DACH Insight Tour & “Talent Retention & Legal Compliance ” Roadshow 德语地区企业探访 by Swiss Chinese Chamber of Commerce\n\nSep 10, 2024 (9:00 AM - 3:00 PM)(GMT+8)\n\nFor more information, click here: https://swisscham-beijing.glueup.cn/my/events/44770
LOCATION:成都凯宾斯基酒店大堂 - 中国四川省成都市武侯区人民南路四段42号 成都 - 四川 - China
BEGIN:VALARM
TRIGGER:-PT48H
REPEAT:4
DURATION:PT30M
ACTION:DISPLAY
END:VALARM
END:VEVENT
END:VCALENDAR